BEGIN:VCALENDAR
VERSION:2.0
PRODID:-//Verein für Garten- und Landespflege Puchheim-Bahnhof e.V. - ECPv6.15.20//NONSGML v1.0//EN
CALSCALE:GREGORIAN
METHOD:PUBLISH
X-WR-CALNAME:Verein für Garten- und Landespflege Puchheim-Bahnhof e.V.
X-ORIGINAL-URL:https://www.gartenbau-puchheim.de
X-WR-CALDESC:Veranstaltungen für Verein für Garten- und Landespflege Puchheim-Bahnhof e.V.
REFRESH-INTERVAL;VALUE=DURATION:PT1H
X-Robots-Tag:noindex
X-PUBLISHED-TTL:PT1H
BEGIN:VTIMEZONE
TZID:Europe/Berlin
BEGIN:DAYLIGHT
TZOFFSETFROM:+0100
TZOFFSETTO:+0200
TZNAME:CEST
DTSTART:20250330T010000
END:DAYLIGHT
BEGIN:STANDARD
TZOFFSETFROM:+0200
TZOFFSETTO:+0100
TZNAME:CET
DTSTART:20251026T010000
END:STANDARD
BEGIN:DAYLIGHT
TZOFFSETFROM:+0100
TZOFFSETTO:+0200
TZNAME:CEST
DTSTART:20260329T010000
END:DAYLIGHT
BEGIN:STANDARD
TZOFFSETFROM:+0200
TZOFFSETTO:+0100
TZNAME:CET
DTSTART:20261025T010000
END:STANDARD
BEGIN:DAYLIGHT
TZOFFSETFROM:+0100
TZOFFSETTO:+0200
TZNAME:CEST
DTSTART:20270328T010000
END:DAYLIGHT
BEGIN:STANDARD
TZOFFSETFROM:+0200
TZOFFSETTO:+0100
TZNAME:CET
DTSTART:20271031T010000
END:STANDARD
END:VTIMEZONE
BEGIN:VEVENT
DTSTART;VALUE=DATE:20260621
DTEND;VALUE=DATE:20260626
DTSTAMP:20260425T151833
CREATED:20260411T084235Z
LAST-MODIFIED:20260415T131721Z
UID:571-1782000000-1782431999@www.gartenbau-puchheim.de
SUMMARY:5-Tagesfahrt\, „In’s schöne Hessen“
DESCRIPTION:Näheres in der Reisebeschreibung. Die Anmeldung erfolgt bei Helmut Tschischka\,\nTel: 089/803772\, die Zahlungen werden direkt an die Firma UNHOLZER getätigt.
URL:https://www.gartenbau-puchheim.de/event/5-tagesfahrt-hessen/
END:VEVENT
BEGIN:VEVENT
DTSTART;TZID=Europe/Berlin:20260725T150000
DTEND;TZID=Europe/Berlin:20260725T170000
DTSTAMP:20260425T151833
CREATED:20260302T135500Z
LAST-MODIFIED:20260302T135500Z
UID:126659-1784991600-1784998800@www.gartenbau-puchheim.de
SUMMARY:Kindergruppe im Vereinsgarten
DESCRIPTION:
URL:https://www.gartenbau-puchheim.de/event/kindergruppe-im-vereinsgarten-2/
END:VEVENT
BEGIN:VEVENT
DTSTART;TZID=Europe/Berlin:20260822T090000
DTEND;TZID=Europe/Berlin:20260822T150000
DTSTAMP:20260425T151833
CREATED:20260412T061432Z
LAST-MODIFIED:20260417T144010Z
UID:546-1787389200-1787410800@www.gartenbau-puchheim.de
SUMMARY:Saftpressen in unserer Mosterei
DESCRIPTION:Wir pressen Äpfel\, Birnen\, Quitten und Trauben. \nBitte beachten! \n\nTermine werden telefonisch unter 089 / 802475 oder 0176/98282908 vergeben\nAusbeute je nach Obstsorte liegt bei 60-70%\nSchätzen Sie vorher das Gewicht Ihres Obstes\nAchten Sie darauf\, nur reifes Obst mitzubringen\nDer Saft kann so mitgenommen werden oder Sie lassen ihn von uns vor Ort erhitzen: Mindestmenge damit pasteurisiert werden kann\, sind 50 kg gebrachtes Obst\, daraus werden ca. 30 Liter Saft
URL:https://www.gartenbau-puchheim.de/event/saftpressen-in-unserer-mosterei/
END:VEVENT
BEGIN:VEVENT
DTSTART;TZID=Europe/Berlin:20260829T090000
DTEND;TZID=Europe/Berlin:20260829T150000
DTSTAMP:20260425T151833
CREATED:20260411T061635Z
LAST-MODIFIED:20260417T143939Z
UID:550-1787994000-1788015600@www.gartenbau-puchheim.de
SUMMARY:Saftpressen in unserer Mosterei
DESCRIPTION:Wir pressen Äpfel\, Birnen\, Quitten und Trauben. \nBitte beachten! \n\nTermine werden telefonisch unter 089 / 802475 oder 0176/98282908 vergeben\nAusbeute je nach Obstsorte liegt bei 60-70%\nSchätzen Sie vorher das Gewicht Ihres Obstes\nAchten Sie darauf\, nur reifes Obst mitzubringen\nDer Saft kann so mitgenommen werden oder Sie lassen ihn von uns vor Ort erhitzen: Mindestmenge damit pasteurisiert werden kann\, sind 50 kg gebrachtes Obst\, daraus werden ca. 30 Liter Saft
URL:https://www.gartenbau-puchheim.de/event/saftpressen-in-unserer-mosterei-3/
END:VEVENT
BEGIN:VEVENT
DTSTART;TZID=Europe/Berlin:20260905T090000
DTEND;TZID=Europe/Berlin:20260905T150000
DTSTAMP:20260425T151833
CREATED:20260411T083516Z
LAST-MODIFIED:20260417T144303Z
UID:555-1788598800-1788620400@www.gartenbau-puchheim.de
SUMMARY:Saftpressen in unserer Mosterei
DESCRIPTION:Wir pressen Äpfel\, Birnen\, Quitten und Trauben. \nBitte beachten! \n\nTermine werden telefonisch unter 089 / 802475 oder 0176/98282908 vergeben\nAusbeute je nach Obstsorte liegt bei 60-70%\nSchätzen Sie vorher das Gewicht Ihres Obstes\nAchten Sie darauf\, nur reifes Obst mitzubringen\nDer Saft kann so mitgenommen werden oder Sie lassen ihn von uns vor Ort erhitzen: Mindestmenge damit pasteurisiert werden kann\, sind 50 kg gebrachtes Obst\, daraus werden ca. 30 Liter Saft
URL:https://www.gartenbau-puchheim.de/event/saftpressen-in-unserer-mosterei-4/
END:VEVENT
BEGIN:VEVENT
DTSTART;TZID=Europe/Berlin:20260912T090000
DTEND;TZID=Europe/Berlin:20260912T150000
DTSTAMP:20260425T151833
CREATED:20250211T093602Z
LAST-MODIFIED:20260417T144223Z
UID:557-1789203600-1789225200@www.gartenbau-puchheim.de
SUMMARY:Saftpressen in unserer Mosterei
DESCRIPTION:Wir pressen Äpfel\, Birnen\, Quitten und Trauben. \nBitte beachten! \n\nTermine werden telefonisch unter 089 / 802475 oder 0176/98282908 vergeben\nAusbeute je nach Obstsorte liegt bei 60-70%\nSchätzen Sie vorher das Gewicht Ihres Obstes\nAchten Sie darauf\, nur reifes Obst mitzubringen\nDer Saft kann so mitgenommen werden oder Sie lassen ihn von uns vor Ort erhitzen: Mindestmenge damit pasteurisiert werden kann\, sind 50 kg gebrachtes Obst\, daraus werden ca. 30 Liter Saft
URL:https://www.gartenbau-puchheim.de/event/saftpressen-in-unserer-mosterei-5/
END:VEVENT
BEGIN:VEVENT
DTSTART;VALUE=DATE:20260913
DTEND;VALUE=DATE:20260914
DTSTAMP:20260425T151833
CREATED:20260302T140604Z
LAST-MODIFIED:20260302T140604Z
UID:126668-1789257600-1789343999@www.gartenbau-puchheim.de
SUMMARY:Tagesausflug zur Landesgartenschau in Ellwangen
DESCRIPTION:Näheres in der Reisebeschreibung. Die Anmeldung erfolgt bei Helmut Tschischka\,\nTel: 089/803772\, die Zahlungen werden direkt an die Firma UNHOLZER getätigt.
URL:https://www.gartenbau-puchheim.de/event/tagesausflug-zur-landesgartenschau-in-ellwangen/
END:VEVENT
BEGIN:VEVENT
DTSTART;TZID=Europe/Berlin:20260919T090000
DTEND;TZID=Europe/Berlin:20260919T150000
DTSTAMP:20260425T151833
CREATED:20260411T083644Z
LAST-MODIFIED:20260417T144409Z
UID:559-1789808400-1789830000@www.gartenbau-puchheim.de
SUMMARY:Saftpressen in unserer Mosterei
DESCRIPTION:Wir pressen Äpfel\, Birnen\, Quitten und Trauben. \nBitte beachten! \n\nTermine werden telefonisch unter 089 / 802475 oder 0176/98282908 vergeben\nAusbeute je nach Obstsorte liegt bei 60-70%\nSchätzen Sie vorher das Gewicht Ihres Obstes\nAchten Sie darauf\, nur reifes Obst mitzubringen\nDer Saft kann so mitgenommen werden oder Sie lassen ihn von uns vor Ort erhitzen: Mindestmenge damit pasteurisiert werden kann\, sind 50 kg gebrachtes Obst\, daraus werden ca. 30 Liter Saft
URL:https://www.gartenbau-puchheim.de/event/saftpressen-in-unserer-mosterei-6/
END:VEVENT
BEGIN:VEVENT
DTSTART;VALUE=DATE:20260920
DTEND;VALUE=DATE:20260921
DTSTAMP:20260425T151833
CREATED:20260411T084309Z
LAST-MODIFIED:20260415T131548Z
UID:573-1789862400-1789948799@www.gartenbau-puchheim.de
SUMMARY:Teilnahme am Ökomarkt
DESCRIPTION:
URL:https://www.gartenbau-puchheim.de/event/teilnahme-am-oekomarkt/
END:VEVENT
BEGIN:VEVENT
DTSTART;TZID=Europe/Berlin:20260926T090000
DTEND;TZID=Europe/Berlin:20260926T150000
DTSTAMP:20260425T151833
CREATED:20260411T083725Z
LAST-MODIFIED:20260417T144158Z
UID:561-1790413200-1790434800@www.gartenbau-puchheim.de
SUMMARY:Saftpressen in unserer Mosterei
DESCRIPTION:Wir pressen Äpfel\, Birnen\, Quitten und Trauben. \nBitte beachten! \n\nTermine werden telefonisch unter 089 / 802475 oder 0176/98282908 vergeben\nAusbeute je nach Obstsorte liegt bei 60-70%\nSchätzen Sie vorher das Gewicht Ihres Obstes\nAchten Sie darauf\, nur reifes Obst mitzubringen\nDer Saft kann so mitgenommen werden oder Sie lassen ihn von uns vor Ort erhitzen: Mindestmenge damit pasteurisiert werden kann\, sind 50 kg gebrachtes Obst\, daraus werden ca. 30 Liter Saft
URL:https://www.gartenbau-puchheim.de/event/saftpressen-in-unserer-mosterei-7/
END:VEVENT
BEGIN:VEVENT
DTSTART;TZID=Europe/Berlin:20261001T100000
DTEND;TZID=Europe/Berlin:20261001T130000
DTSTAMP:20260425T151833
CREATED:20260411T084436Z
LAST-MODIFIED:20260415T132111Z
UID:575-1790848800-1790859600@www.gartenbau-puchheim.de
SUMMARY:Nistkästen reinigen
DESCRIPTION:Treffpunkt: hinter dem Rathaus
URL:https://www.gartenbau-puchheim.de/event/nistkaesten-reinigen-2/
END:VEVENT
BEGIN:VEVENT
DTSTART;TZID=Europe/Berlin:20261009T190000
DTEND;TZID=Europe/Berlin:20261009T210000
DTSTAMP:20260425T151833
CREATED:20260411T084527Z
LAST-MODIFIED:20260415T132100Z
UID:577-1791572400-1791579600@www.gartenbau-puchheim.de
SUMMARY:Herbstversammlung mit einem Fachvortrag
DESCRIPTION:Ort: Haus der Begegnung\, Aubinger Weg
URL:https://www.gartenbau-puchheim.de/event/herbstversammlung-mit-einem-fachvortrag/
END:VEVENT
BEGIN:VEVENT
DTSTART;TZID=Europe/Berlin:20261010T090000
DTEND;TZID=Europe/Berlin:20261010T150000
DTSTAMP:20260425T151833
CREATED:20260411T083942Z
LAST-MODIFIED:20260417T144140Z
UID:565-1791622800-1791644400@www.gartenbau-puchheim.de
SUMMARY:Saftpressen in unserer Mosterei
DESCRIPTION:Wir pressen Äpfel\, Birnen\, Quitten und Trauben. \nBitte beachten! \n\nTermine werden telefonisch unter 089 / 802475 oder 0176/98282908 vergeben\nAusbeute je nach Obstsorte liegt bei 60-70%\nSchätzen Sie vorher das Gewicht Ihres Obstes\nAchten Sie darauf\, nur reifes Obst mitzubringen\nDer Saft kann so mitgenommen werden oder Sie lassen ihn von uns vor Ort erhitzen: Mindestmenge damit pasteurisiert werden kann\, sind 50 kg gebrachtes Obst\, daraus werden ca. 30 Liter Saft
URL:https://www.gartenbau-puchheim.de/event/saftpressen-in-unserer-mosterei-9/
END:VEVENT
BEGIN:VEVENT
DTSTART;TZID=Europe/Berlin:20261017T090000
DTEND;TZID=Europe/Berlin:20261017T150000
DTSTAMP:20260425T151833
CREATED:20260411T084017Z
LAST-MODIFIED:20260417T144121Z
UID:567-1792227600-1792249200@www.gartenbau-puchheim.de
SUMMARY:Saftpressen in unserer Mosterei
DESCRIPTION:Wir pressen Äpfel\, Birnen\, Quitten und Trauben. \nBitte beachten! \n\nTermine werden telefonisch unter 089 / 802475 oder 0176/98282908 vergeben\nAusbeute je nach Obstsorte liegt bei 60-70%\nSchätzen Sie vorher das Gewicht Ihres Obstes\nAchten Sie darauf\, nur reifes Obst mitzubringen\nDer Saft kann so mitgenommen werden oder Sie lassen ihn von uns vor Ort erhitzen: Mindestmenge damit pasteurisiert werden kann\, sind 50 kg gebrachtes Obst\, daraus werden ca. 30 Liter Saft
URL:https://www.gartenbau-puchheim.de/event/saftpressen-in-unserer-mosterei-10/
END:VEVENT
BEGIN:VEVENT
DTSTART;TZID=Europe/Berlin:20261023T150000
DTEND;TZID=Europe/Berlin:20261023T170000
DTSTAMP:20260425T151833
CREATED:20260302T135656Z
LAST-MODIFIED:20260302T135656Z
UID:126661-1792767600-1792774800@www.gartenbau-puchheim.de
SUMMARY:Kindergruppe im Vereinsgarten
DESCRIPTION:
URL:https://www.gartenbau-puchheim.de/event/kindergruppe-im-vereinsgarten-3/
END:VEVENT
BEGIN:VEVENT
DTSTART;TZID=Europe/Berlin:20261024T090000
DTEND;TZID=Europe/Berlin:20261024T150000
DTSTAMP:20260425T151833
CREATED:20260411T084054Z
LAST-MODIFIED:20260417T144101Z
UID:569-1792832400-1792854000@www.gartenbau-puchheim.de
SUMMARY:Saftpressen in unserer Mosterei
DESCRIPTION:Wir pressen Äpfel\, Birnen\, Quitten und Trauben. \nBitte beachten! \n\nTermine werden telefonisch unter 089 / 802475 oder 0176/98282908 vergeben\nAusbeute je nach Obstsorte liegt bei 60-70%\nSchätzen Sie vorher das Gewicht Ihres Obstes\nAchten Sie darauf\, nur reifes Obst mitzubringen\nDer Saft kann so mitgenommen werden oder Sie lassen ihn von uns vor Ort erhitzen: Mindestmenge damit pasteurisiert werden kann\, sind 50 kg gebrachtes Obst\, daraus werden ca. 30 Liter Saft
URL:https://www.gartenbau-puchheim.de/event/saftpressen-in-unserer-mosterei-11/
END:VEVENT
BEGIN:VEVENT
DTSTART;TZID=Europe/Berlin:20261031T090000
DTEND;TZID=Europe/Berlin:20261031T150000
DTSTAMP:20260425T151833
CREATED:20260411T083904Z
LAST-MODIFIED:20260417T144043Z
UID:563-1793437200-1793458800@www.gartenbau-puchheim.de
SUMMARY:Saftpressen in unserer Mosterei
DESCRIPTION:Wir pressen Äpfel\, Birnen\, Quitten und Trauben. \nBitte beachten! \n\nTermine werden telefonisch unter 089 / 802475 oder 0176/98282908 vergeben\nAusbeute je nach Obstsorte liegt bei 60-70%\nSchätzen Sie vorher das Gewicht Ihres Obstes\nAchten Sie darauf\, nur reifes Obst mitzubringen\nDer Saft kann so mitgenommen werden oder Sie lassen ihn von uns vor Ort erhitzen: Mindestmenge damit pasteurisiert werden kann\, sind 50 kg gebrachtes Obst\, daraus werden ca. 30 Liter Saft
URL:https://www.gartenbau-puchheim.de/event/saftpressen-in-unserer-mosterei-8/
END:VEVENT
BEGIN:VEVENT
DTSTART;TZID=Europe/Berlin:20261120T080000
DTEND;TZID=Europe/Berlin:20261120T170000
DTSTAMP:20260425T151833
CREATED:20260302T135733Z
LAST-MODIFIED:20260302T135733Z
UID:126663-1795161600-1795194000@www.gartenbau-puchheim.de
SUMMARY:Kindergruppe im Vereinsgarten (Wetterabhängig)
DESCRIPTION:
URL:https://www.gartenbau-puchheim.de/event/kindergruppe-im-vereinsgarten-wetterabhaengig/
END:VEVENT
BEGIN:VEVENT
DTSTART;TZID=Europe/Berlin:20261129T170000
DTEND;TZID=Europe/Berlin:20261129T210000
DTSTAMP:20260425T151833
CREATED:20260411T084655Z
LAST-MODIFIED:20260415T132031Z
UID:581-1795971600-1795986000@www.gartenbau-puchheim.de
SUMMARY:Gemütliche Weihnachtsfeier
DESCRIPTION:
URL:https://www.gartenbau-puchheim.de/event/gemuetliche-weihnachtsfeier/
END:VEVENT
END:VCALENDAR